BEGIN:VCALENDAR
VERSION:2.0
PRODID:-//Athletic Club - ECPv6.15.14//NONSGML v1.0//EN
CALSCALE:GREGORIAN
METHOD:PUBLISH
X-WR-CALNAME:Athletic Club
X-ORIGINAL-URL:https://athleticclub.com.br
X-WR-CALDESC:Eventos para Athletic Club
REFRESH-INTERVAL;VALUE=DURATION:PT1H
X-Robots-Tag:noindex
X-PUBLISHED-TTL:PT1H
BEGIN:VTIMEZONE
TZID:America/Sao_Paulo
BEGIN:STANDARD
TZOFFSETFROM:-0300
TZOFFSETTO:-0300
TZNAME:-03
DTSTART:20240101T000000
END:STANDARD
END:VTIMEZONE
BEGIN:VEVENT
DTSTART;TZID=America/Sao_Paulo:20251101T080000
DTEND;TZID=America/Sao_Paulo:20251101T120000
DTSTAMP:20260419T120556
CREATED:20251031T182235Z
LAST-MODIFIED:20251031T182900Z
UID:6824-1761984000-1761998400@athleticclub.com.br
SUMMARY:Festival "Vestindo a Camisa"
DESCRIPTION:Teremos em nosso clube um verdadeiro encontro das turmas de vôlei do Athletic! \n\n\n\nParticipam do evento nossos alunos das escolinhas e do projeto Esportividade no Athletic \, em uma manhã repleta de integração\, aprendizado e espírito de equipe. \n\n\n\n📍 Praça de Esportes do Clube🕗 A partir das 8h🎟️ Entrada solidária: traga 1kg de alimento não perecível para doação! \n\n\n\nVamos juntos viver mais um momento especial do nosso voleibol! 🤝✨
URL:https://athleticclub.com.br/agenda/festival-vestindo-a-camisa%f0%9f%8f%90/
LOCATION:Praça de Esportes\, Rua Prefeito Nascimento Teixeira\, 160 - Bairro Segredo\, São João del-Rei\, 36307-404\, Brasil
ATTACH;FMTTYPE=image/jpeg:https://athleticclub.com.br/wp-content/uploads/2025/10/WhatsApp-Image-2025-10-31-at-12.36.22.jpeg
ORGANIZER;CN="Athletic Club":MAILTO:contato@athleticclub.com
END:VEVENT
BEGIN:VEVENT
DTSTART;TZID=America/Sao_Paulo:20251129T150000
DTEND;TZID=America/Sao_Paulo:20251129T180000
DTSTAMP:20260419T120556
CREATED:20251031T182829Z
LAST-MODIFIED:20251031T182830Z
UID:6827-1764428400-1764439200@athleticclub.com.br
SUMMARY:8º Encontro de Ginástica Artística do Athletic Club
DESCRIPTION:🌟 8º Encontro de Ginástica Artística do Athletic Club 🌟 \n\n\n\n📅 29/11 ⏰ 15h 📍 Praça de Esportes \n\n\n\nVai ser uma tarde incrível com apresentações das equipes do Athletic\, UFMG e Gracie Barra! 🤸‍♀️ \n\n\n\nE\, para encerrar nosso evento\, teremos coreografias especiais\, individuais e em grupo\, de ginástica artística para fechar com chave de ouro! 💃 \n\n\n\nNão fique de fora! Venha prestigiar e torcer com a gente! \n\n\n\n🎟️ Entrada solidária: traga 1kg de alimento ou 1L de leite ou 5 reais!
URL:https://athleticclub.com.br/agenda/8o-encontro-de-ginastica-artistica-do-athletic-club/
LOCATION:Praça de Esportes\, Rua Prefeito Nascimento Teixeira\, 160 - Bairro Segredo\, São João del-Rei\, 36307-404\, Brasil
ATTACH;FMTTYPE=image/jpeg:https://athleticclub.com.br/wp-content/uploads/2025/10/WhatsApp-Image-2025-10-31-at-15.22.53.jpeg
ORGANIZER;CN="Athletic Club":MAILTO:contato@athleticclub.com
END:VEVENT
END:VCALENDAR